BEGIN:VCALENDAR
VERSION:2.0
PRODID:-//RSU 68 - ECPv6.15.20//NONSGML v1.0//EN
CALSCALE:GREGORIAN
METHOD:PUBLISH
X-WR-CALNAME:RSU 68
X-ORIGINAL-URL:https://sedomocha.org
X-WR-CALDESC:Events for RSU 68
REFRESH-INTERVAL;VALUE=DURATION:PT1H
X-Robots-Tag:noindex
X-PUBLISHED-TTL:PT1H
BEGIN:VTIMEZONE
TZID:America/New_York
BEGIN:DAYLIGHT
TZOFFSETFROM:-0500
TZOFFSETTO:-0400
TZNAME:EDT
DTSTART:20240310T070000
END:DAYLIGHT
BEGIN:STANDARD
TZOFFSETFROM:-0400
TZOFFSETTO:-0500
TZNAME:EST
DTSTART:20241103T060000
END:STANDARD
BEGIN:DAYLIGHT
TZOFFSETFROM:-0500
TZOFFSETTO:-0400
TZNAME:EDT
DTSTART:20250309T070000
END:DAYLIGHT
BEGIN:STANDARD
TZOFFSETFROM:-0400
TZOFFSETTO:-0500
TZNAME:EST
DTSTART:20251102T060000
END:STANDARD
BEGIN:DAYLIGHT
TZOFFSETFROM:-0500
TZOFFSETTO:-0400
TZNAME:EDT
DTSTART:20260308T070000
END:DAYLIGHT
BEGIN:STANDARD
TZOFFSETFROM:-0400
TZOFFSETTO:-0500
TZNAME:EST
DTSTART:20261101T060000
END:STANDARD
END:VTIMEZONE
BEGIN:VEVENT
DTSTART;VALUE=DATE:20250930
DTEND;VALUE=DATE:20251001
DTSTAMP:20260420T090347
CREATED:20250701T170032Z
LAST-MODIFIED:20250930T234422Z
UID:10008193-1759190400-1759276799@sedomocha.org
SUMMARY:"A" Soccer HOME vs Warsaw 3:30/4:45 (G/B)
DESCRIPTION:
URL:https://sedomocha.org/event/a-soccer-home-vs-warsaw-330-445-g-b-5/
LOCATION:ME
CATEGORIES:Athletics
END:VEVENT
BEGIN:VEVENT
DTSTART;VALUE=DATE:20250930
DTEND;VALUE=DATE:20251001
DTSTAMP:20260420T090347
CREATED:20250701T170029Z
LAST-MODIFIED:20250930T234424Z
UID:10008192-1759190400-1759276799@sedomocha.org
SUMMARY:Golf Team @ Central (White Tail) 4:00PM
DESCRIPTION:
URL:https://sedomocha.org/event/golf-team-central-white-tail-400pm/
LOCATION:ME
CATEGORIES:Athletics
END:VEVENT
BEGIN:VEVENT
DTSTART;VALUE=DATE:20250930
DTEND;VALUE=DATE:20251001
DTSTAMP:20260420T090347
CREATED:20250701T170028Z
LAST-MODIFIED:20250930T234421Z
UID:10008191-1759190400-1759276799@sedomocha.org
SUMMARY:XC Meet @ Nokomis 4:15PM (G/B)
DESCRIPTION:
URL:https://sedomocha.org/event/xc-meet-central-415pm-b-g/
LOCATION:ME
CATEGORIES:Athletics
END:VEVENT
BEGIN:VEVENT
DTSTART;VALUE=DATE:20250930
DTEND;VALUE=DATE:20251001
DTSTAMP:20260420T090347
CREATED:20250701T160032Z
LAST-MODIFIED:20250930T234419Z
UID:10008175-1759190400-1759276799@sedomocha.org
SUMMARY:Football HOME (FA) vs Nokomis 4:30PM
DESCRIPTION:
URL:https://sedomocha.org/event/football-home-fa-vs-nokomis-430pm-2/
LOCATION:ME
CATEGORIES:Athletics
END:VEVENT
BEGIN:VEVENT
DTSTART;VALUE=DATE:20250930
DTEND;VALUE=DATE:20251001
DTSTAMP:20260420T090347
CREATED:20250701T160031Z
LAST-MODIFIED:20250930T234420Z
UID:10008174-1759190400-1759276799@sedomocha.org
SUMMARY:"A" Field Hockey @ Warsaw 3:30PM
DESCRIPTION:
URL:https://sedomocha.org/event/a-field-hockey-warsaw-330pm-2/
LOCATION:ME
CATEGORIES:Athletics
END:VEVENT
BEGIN:VEVENT
DTSTART;VALUE=DATE:20250929
DTEND;VALUE=DATE:20250930
DTSTAMP:20260420T090347
CREATED:20250701T170035Z
LAST-MODIFIED:20250929T231436Z
UID:10008194-1759104000-1759190399@sedomocha.org
SUMMARY:"A" Soccer @ MJHS 3:30/4:45 (B/G)
DESCRIPTION:
URL:https://sedomocha.org/event/a-soccer-mjhs-330-445-b-g-2/
LOCATION:ME
CATEGORIES:Athletics
END:VEVENT
BEGIN:VEVENT
DTSTART;VALUE=DATE:20250926
DTEND;VALUE=DATE:20250927
DTSTAMP:20260420T090347
CREATED:20250730T142954Z
LAST-MODIFIED:20250926T225919Z
UID:10008209-1758844800-1758931199@sedomocha.org
SUMMARY:"A" & "B" Field Hockey HOME (Field House) vs Nokomis 3:30/4:45
DESCRIPTION:
URL:https://sedomocha.org/event/b-field-hockey-home-vs-nokomis-330/
LOCATION:ME
CATEGORIES:Athletics
END:VEVENT
BEGIN:VEVENT
DTSTART;VALUE=DATE:20250926
DTEND;VALUE=DATE:20250927
DTSTAMP:20260420T090347
CREATED:20250730T142954Z
LAST-MODIFIED:20250926T225920Z
UID:10008210-1758844800-1758931199@sedomocha.org
SUMMARY:"B" Soccer @ Nokomis 3:30PM
DESCRIPTION:
URL:https://sedomocha.org/event/b-soccer-nokomis-330pm/
LOCATION:ME
CATEGORIES:Athletics
END:VEVENT
BEGIN:VEVENT
DTSTART;VALUE=DATE:20250925
DTEND;VALUE=DATE:20250926
DTSTAMP:20260420T090347
CREATED:20250909T135221Z
LAST-MODIFIED:20250909T135221Z
UID:10008226-1758758400-1758844799@sedomocha.org
SUMMARY:Picture Day - Middle School
DESCRIPTION:
URL:https://sedomocha.org/event/picture-day-middle-school-2/
LOCATION:SeDoMoCha\, 63 Harrison Avenue\, Dover Foxcroft\, ME\, 04426\, United States
CATEGORIES:District,SeDoMoCha Middle School
END:VEVENT
BEGIN:VEVENT
DTSTART;VALUE=DATE:20250925
DTEND;VALUE=DATE:20250926
DTSTAMP:20260420T090347
CREATED:20250821T180012Z
LAST-MODIFIED:20250925T121448Z
UID:10008216-1758758400-1758844799@sedomocha.org
SUMMARY:"B" Field Hockey HOME (Field House) vs Ridge View 4:45PM
DESCRIPTION:
URL:https://sedomocha.org/event/b-field-hockey-home-field-house-vs-ridge-view-445pm/
LOCATION:ME
CATEGORIES:Athletics
END:VEVENT
BEGIN:VEVENT
DTSTART;VALUE=DATE:20250925
DTEND;VALUE=DATE:20250926
DTSTAMP:20260420T090347
CREATED:20250701T160029Z
LAST-MODIFIED:20250925T225917Z
UID:10008173-1758758400-1758844799@sedomocha.org
SUMMARY:"A" & "B" Field Hockey HOME (Field House) vs Ridge View 3:30/4:45PM
DESCRIPTION:
URL:https://sedomocha.org/event/a-field-hockey-home-field-house-vs-ridge-view-330pm-2/
LOCATION:ME
CATEGORIES:Athletics
END:VEVENT
BEGIN:VEVENT
DTSTART;VALUE=DATE:20250924
DTEND;VALUE=DATE:20250925
DTSTAMP:20260420T090347
CREATED:20250909T135325Z
LAST-MODIFIED:20250909T135325Z
UID:10008227-1758672000-1758758399@sedomocha.org
SUMMARY:Picture Day - PreK 572
DESCRIPTION:
URL:https://sedomocha.org/event/picture-day-prek-572/
LOCATION:PreK Collaborative Expansion Program (PKCEP)\, 572 Bangor Road\, Dover-Foxcroft\, ME\, 04426\, United States
CATEGORIES:District
END:VEVENT
BEGIN:VEVENT
DTSTART;VALUE=DATE:20250924
DTEND;VALUE=DATE:20250925
DTSTAMP:20260420T090347
CREATED:20250821T185920Z
LAST-MODIFIED:20250925T000011Z
UID:10008218-1758672000-1758758399@sedomocha.org
SUMMARY:"B" Soccer HOME vs Central 3:30/4:45 (B/G)
DESCRIPTION:
URL:https://sedomocha.org/event/b-soccer-home-vs-central-330-445-b-g/
LOCATION:ME
CATEGORIES:Athletics
END:VEVENT
BEGIN:VEVENT
DTSTART;VALUE=DATE:20250924
DTEND;VALUE=DATE:20250925
DTSTAMP:20260420T090347
CREATED:20250701T170024Z
LAST-MODIFIED:20250925T000010Z
UID:10008189-1758672000-1758758399@sedomocha.org
SUMMARY:Golf Team @ Warsaw (JW Parks) 4:00PM
DESCRIPTION:
URL:https://sedomocha.org/event/golf-team-warsaw-jw-parks-400pm-2/
LOCATION:ME
CATEGORIES:Athletics
END:VEVENT
BEGIN:VEVENT
DTSTART;VALUE=DATE:20250923
DTEND;VALUE=DATE:20250924
DTSTAMP:20260420T090347
CREATED:20250909T135127Z
LAST-MODIFIED:20250909T135127Z
UID:10008225-1758585600-1758671999@sedomocha.org
SUMMARY:Picture Day - Elementary
DESCRIPTION:
URL:https://sedomocha.org/event/picture-day-elementary-2/
LOCATION:SeDoMoCha\, 63 Harrison Avenue\, Dover Foxcroft\, ME\, 04426\, United States
CATEGORIES:District,SeDoMoCha Elementary School
END:VEVENT
BEGIN:VEVENT
DTSTART;VALUE=DATE:20250923
DTEND;VALUE=DATE:20250924
DTSTAMP:20260420T090347
CREATED:20250701T160028Z
LAST-MODIFIED:20250923T233030Z
UID:10008172-1758585600-1758671999@sedomocha.org
SUMMARY:Football HOME (FA) vs MJHS 4:30PM
DESCRIPTION:
URL:https://sedomocha.org/event/football-home-fa-vs-mjhs-430pm/
LOCATION:ME
CATEGORIES:Athletics
END:VEVENT
BEGIN:VEVENT
DTSTART;VALUE=DATE:20250923
DTEND;VALUE=DATE:20250924
DTSTAMP:20260420T090347
CREATED:20250701T160027Z
LAST-MODIFIED:20250923T233032Z
UID:10008171-1758585600-1758671999@sedomocha.org
SUMMARY:"A" Field Hockey HOME (Field House) vs Stearns 4:00PM
DESCRIPTION:
URL:https://sedomocha.org/event/a-field-hockey-home-field-house-vs-stearns-400pm-2/
LOCATION:ME
CATEGORIES:Athletics
END:VEVENT
BEGIN:VEVENT
DTSTART;VALUE=DATE:20250919
DTEND;VALUE=DATE:20250920
DTSTAMP:20260420T090347
CREATED:20250918T163219Z
LAST-MODIFIED:20250918T163219Z
UID:10008228-1758240000-1758326399@sedomocha.org
SUMMARY:Early Dismissal Day
DESCRIPTION:Dismissal begins at 11:30 a.m.
URL:https://sedomocha.org/event/early-dismissal-day-50/
LOCATION:SeDoMoCha\, 63 Harrison Avenue\, Dover Foxcroft\, ME\, 04426\, United States
CATEGORIES:District
END:VEVENT
BEGIN:VEVENT
DTSTART;VALUE=DATE:20250919
DTEND;VALUE=DATE:20250920
DTSTAMP:20260420T090347
CREATED:20250905T132953Z
LAST-MODIFIED:20250919T232911Z
UID:10008223-1758240000-1758326399@sedomocha.org
SUMMARY:"A" & "B" Field Hockey @ Skowhegan 3:30/4:45PM
DESCRIPTION:
URL:https://sedomocha.org/event/a-b-field-hockey-skowhegan-330-445pm/
LOCATION:ME
CATEGORIES:Athletics
END:VEVENT
BEGIN:VEVENT
DTSTART;VALUE=DATE:20250919
DTEND;VALUE=DATE:20250920
DTSTAMP:20260420T090347
CREATED:20250701T160025Z
LAST-MODIFIED:20250819T171523Z
UID:10008170-1758240000-1758326399@sedomocha.org
SUMMARY:"A" Field Hockey @ PCMS 3:30PM
DESCRIPTION:
URL:https://sedomocha.org/event/a-field-hockey-pcms-330pm-2/
LOCATION:ME
CATEGORIES:Athletics
END:VEVENT
BEGIN:VEVENT
DTSTART;VALUE=DATE:20250917
DTEND;VALUE=DATE:20250918
DTSTAMP:20260420T090347
CREATED:20250821T175956Z
LAST-MODIFIED:20250917T232915Z
UID:10008215-1758067200-1758153599@sedomocha.org
SUMMARY:"B" Field Hockey @ Ridge View 4:45PM
DESCRIPTION:
URL:https://sedomocha.org/event/b-field-hockey-ridge-view-445pm/
LOCATION:ME
CATEGORIES:Athletics
END:VEVENT
BEGIN:VEVENT
DTSTART;VALUE=DATE:20250917
DTEND;VALUE=DATE:20250918
DTSTAMP:20260420T090347
CREATED:20250701T170018Z
LAST-MODIFIED:20250917T232917Z
UID:10008188-1758067200-1758153599@sedomocha.org
SUMMARY:"A" Soccer HOME vs Ridge View 3:30/4:45 (B/G)
DESCRIPTION:
URL:https://sedomocha.org/event/a-soccer-home-vs-ridge-view-330-445-b-g-56/
LOCATION:ME
CATEGORIES:Athletics
END:VEVENT
BEGIN:VEVENT
DTSTART;VALUE=DATE:20250917
DTEND;VALUE=DATE:20250918
DTSTAMP:20260420T090347
CREATED:20250701T170009Z
LAST-MODIFIED:20250917T232918Z
UID:10008187-1758067200-1758153599@sedomocha.org
SUMMARY:XC Meet @ MJHS 4:15PM (G/B)
DESCRIPTION:
URL:https://sedomocha.org/event/xc-meet-mjhs-415pm-g-b/
LOCATION:ME
CATEGORIES:Athletics
END:VEVENT
BEGIN:VEVENT
DTSTART;VALUE=DATE:20250917
DTEND;VALUE=DATE:20250918
DTSTAMP:20260420T090347
CREATED:20250701T160024Z
LAST-MODIFIED:20250917T232914Z
UID:10008169-1758067200-1758153599@sedomocha.org
SUMMARY:"A" Field Hockey @ Ridge View 3:30PM
DESCRIPTION:
URL:https://sedomocha.org/event/a-field-hockey-ridge-view-330pm-2/
LOCATION:ME
CATEGORIES:Athletics
END:VEVENT
BEGIN:VEVENT
DTSTART;TZID=America/New_York:20250916T171500
DTEND;TZID=America/New_York:20250916T183000
DTSTAMP:20260420T090347
CREATED:20250905T180203Z
LAST-MODIFIED:20250905T180203Z
UID:10008224-1758042900-1758047400@sedomocha.org
SUMMARY:Math & Literacy Night/One Book One School Kick-Off
DESCRIPTION:
URL:https://sedomocha.org/event/math-literacy-night-one-book-one-school-kick-off/
LOCATION:SeDoMoCha\, 63 Harrison Avenue\, Dover Foxcroft\, ME\, 04426\, United States
CATEGORIES:District
END:VEVENT
BEGIN:VEVENT
DTSTART;VALUE=DATE:20250916
DTEND;VALUE=DATE:20250917
DTSTAMP:20260420T090347
CREATED:20250821T185918Z
LAST-MODIFIED:20250916T231421Z
UID:10008217-1757980800-1758067199@sedomocha.org
SUMMARY:"B" Soccer @ Central 3:30/4:45 (G/B)
DESCRIPTION:
URL:https://sedomocha.org/event/b-soccer-central-330-445-g-b/
LOCATION:ME
CATEGORIES:Athletics
END:VEVENT
BEGIN:VEVENT
DTSTART;VALUE=DATE:20250916
DTEND;VALUE=DATE:20250917
DTSTAMP:20260420T090347
CREATED:20250701T160022Z
LAST-MODIFIED:20250916T231418Z
UID:10008167-1757980800-1758067199@sedomocha.org
SUMMARY:Football HOME (FA) vs Bangor 4:30PM
DESCRIPTION:
URL:https://sedomocha.org/event/football-home-fa-vs-bangor-430pm-2/
LOCATION:ME
CATEGORIES:Athletics
END:VEVENT
BEGIN:VEVENT
DTSTART;VALUE=DATE:20250915
DTEND;VALUE=DATE:20250916
DTSTAMP:20260420T090347
CREATED:20250701T170008Z
LAST-MODIFIED:20250915T232921Z
UID:10008186-1757894400-1757980799@sedomocha.org
SUMMARY:"A" Soccer @ Warsaw 3:30/4:45 (B/G)
DESCRIPTION:
URL:https://sedomocha.org/event/a-soccer-warsaw-330-445-b-g-4/
LOCATION:ME
CATEGORIES:Athletics
END:VEVENT
BEGIN:VEVENT
DTSTART;VALUE=DATE:20250915
DTEND;VALUE=DATE:20250916
DTSTAMP:20260420T090347
CREATED:20250701T170007Z
LAST-MODIFIED:20250915T232926Z
UID:10008185-1757894400-1757980799@sedomocha.org
SUMMARY:Golf Team @ Ridge View (Dexter Muni) 4:00PM
DESCRIPTION:
URL:https://sedomocha.org/event/golf-team-ridge-view-dexter-muni-400pm-3/
LOCATION:ME
CATEGORIES:Athletics
END:VEVENT
BEGIN:VEVENT
DTSTART;VALUE=DATE:20250915
DTEND;VALUE=DATE:20250916
DTSTAMP:20260420T090347
CREATED:20250701T160023Z
LAST-MODIFIED:20250915T232922Z
UID:10008168-1757894400-1757980799@sedomocha.org
SUMMARY:"A" Field Hockey HOME (Field House) vs Warsaw 3:30PM
DESCRIPTION:
URL:https://sedomocha.org/event/a-field-hockey-home-field-house-vs-warsaw-330pm-2/
LOCATION:ME
CATEGORIES:Athletics
END:VEVENT
END:VCALENDAR